BEGIN:VCALENDAR
VERSION:2.0
PRODID:-//Coletivo - Mulher Do Mundo - ECPv6.3.3.1//NONSGML v1.0//EN
CALSCALE:GREGORIAN
METHOD:PUBLISH
X-ORIGINAL-URL:https://mulherdomundo.com
X-WR-CALDESC:Eventos para Coletivo - Mulher Do Mundo
REFRESH-INTERVAL;VALUE=DURATION:PT1H
X-Robots-Tag:noindex
X-PUBLISHED-TTL:PT1H
BEGIN:VTIMEZONE
TZID:America/Sao_Paulo
BEGIN:STANDARD
TZOFFSETFROM:-0300
TZOFFSETTO:-0300
TZNAME:-03
DTSTART:20240101T000000
END:STANDARD
END:VTIMEZONE
BEGIN:VEVENT
DTSTART;TZID=America/Sao_Paulo:20240308T110000
DTEND;TZID=America/Sao_Paulo:20240308T110000
DTSTAMP:20260421T052905
CREATED:20240305T205935Z
LAST-MODIFIED:20240305T210006Z
UID:2499-1709895600-1709895600@mulherdomundo.com
SUMMARY:Roda de conversa sobre maternidade circo e produção artística
DESCRIPTION:
URL:https://mulherdomundo.com/index.php/agenda/roda-de-conversa-sobre-maternidade-circo-e-producao-artistica/
LOCATION:Online – Youtube
END:VEVENT
BEGIN:VEVENT
DTSTART;TZID=America/Sao_Paulo:20240308T100000
DTEND;TZID=America/Sao_Paulo:20240308T100000
DTSTAMP:20260421T052905
CREATED:20240305T205402Z
LAST-MODIFIED:20240305T214911Z
UID:2491-1709892000-1709892000@mulherdomundo.com
SUMMARY:Palestra sobre circo\, arte e inclusão
DESCRIPTION:A palestra vai abordar experiências\, perspectivas e militâncias acerca de temáticas como acessibilidade\, inclusão e visibilidade de artistas PCDs na cultura e na cena circense.
URL:https://mulherdomundo.com/index.php/agenda/palestra-sobre-circo-arte-e-inclusao/
LOCATION:Online – Youtube
END:VEVENT
BEGIN:VEVENT
DTSTART;TZID=America/Sao_Paulo:20240307T200000
DTEND;TZID=America/Sao_Paulo:20240307T200000
DTSTAMP:20260421T052905
CREATED:20240305T204436Z
LAST-MODIFIED:20240307T172734Z
UID:2484-1709841600-1709841600@mulherdomundo.com
SUMMARY:Lançamento do curta A Mulher do Mundo - Online
DESCRIPTION:Ver canal no Youtube
URL:https://mulherdomundo.com/index.php/agenda/lancamento-do-curta-a-mulher-do-mundo-online/
LOCATION:Online – Youtube
END:VEVENT
BEGIN:VEVENT
DTSTART;TZID=America/Sao_Paulo:20240307T100000
DTEND;TZID=America/Sao_Paulo:20240307T120000
DTSTAMP:20260421T052905
CREATED:20240307T210611Z
LAST-MODIFIED:20240307T210638Z
UID:2783-1709805600-1709812800@mulherdomundo.com
SUMMARY:Oficina presencial de criação com bambolê
DESCRIPTION:Com o objetivo de explorar as potencialidades criativas únicas e pessoais de cada uma com o bambolê\, a oficina trará ferramentas técnicas que irão facilitar com que a aluna crie suas próprias sequencias/flows com o bambolê e se aproprie dos conceitos fundamentais: ritmo\, ponto de contato\, pulsação\, planos e inércia.
URL:https://mulherdomundo.com/index.php/agenda/oficina-presencial-de-criacao-com-bambole/
LOCATION:Espaço Cultural Renato Russo – Galpão Hugo Rodas\, Asa Sul Comércio Residencial Sul 508 Bloco A - Asa Sul\, Brasília - DF\, Brasília\, 70351-515\, Brasil
END:VEVENT
END:VCALENDAR